BEGIN:VCALENDAR
VERSION:2.0
PRODID:-//Quilting in New England - ECPv6.15.20//NONSGML v1.0//EN
CALSCALE:GREGORIAN
METHOD:PUBLISH
X-WR-CALNAME:Quilting in New England
X-ORIGINAL-URL:https://quiltnewengland.com
X-WR-CALDESC:Events for Quilting in New England
REFRESH-INTERVAL;VALUE=DURATION:PT1H
X-Robots-Tag:noindex
X-PUBLISHED-TTL:PT1H
BEGIN:VTIMEZONE
TZID:America/New_York
BEGIN:DAYLIGHT
TZOFFSETFROM:-0500
TZOFFSETTO:-0400
TZNAME:EDT
DTSTART:20240310T070000
END:DAYLIGHT
BEGIN:STANDARD
TZOFFSETFROM:-0400
TZOFFSETTO:-0500
TZNAME:EST
DTSTART:20241103T060000
END:STANDARD
BEGIN:DAYLIGHT
TZOFFSETFROM:-0500
TZOFFSETTO:-0400
TZNAME:EDT
DTSTART:20250309T070000
END:DAYLIGHT
BEGIN:STANDARD
TZOFFSETFROM:-0400
TZOFFSETTO:-0500
TZNAME:EST
DTSTART:20251102T060000
END:STANDARD
BEGIN:DAYLIGHT
TZOFFSETFROM:-0500
TZOFFSETTO:-0400
TZNAME:EDT
DTSTART:20260308T070000
END:DAYLIGHT
BEGIN:STANDARD
TZOFFSETFROM:-0400
TZOFFSETTO:-0500
TZNAME:EST
DTSTART:20261101T060000
END:STANDARD
END:VTIMEZONE
BEGIN:VEVENT
DTSTART;VALUE=DATE:20250503
DTEND;VALUE=DATE:20250505
DTSTAMP:20260424T173203
CREATED:20250323T175512Z
LAST-MODIFIED:20250323T175833Z
UID:3500-1746230400-1746403199@quiltnewengland.com
SUMMARY:Hands All Around Quilt Show
DESCRIPTION:Hands Across the Valley Quilters Guild is excited to welcome you to our Hands All Around 19 Quilt Show on May 3rd and 4th\, 2025 at Robert Crown Gymnasium\, Hampshire College\, Amherst\, MA.\nIt will be held from 10 AM to 4 PM each day.\nOur show will include a traveling exhibit from the New England Quilt Museum\, plus an expected 200 + quilts on display\, a raffle quilt\, raffle baskets\, a mini-quilt sale\, and vendors. \n\nAdmission: Adults $10\, kids 12 and under FREE (when accompanied by paid attendee)\, students and active military $5 (must show ID)\nGroup Admission: Contact us in advance to arrange for your group of 10 or more to visit our show at a discounted admission cost of $8 each.\nParking: Parking at Hampshire is free.\n\n 
URL:https://quiltnewengland.com/events/hands-all-around-quilt-show
LOCATION:Robert Crown Gymnasium\, 893 West Street\, Amherst\, MA\, 01002\, United States
CATEGORIES:Exhibits,Guild Event,Massachusetts,Quilt Show
END:VEVENT
END:VCALENDAR