BEGIN:VCALENDAR
VERSION:2.0
PRODID:-//Quilting in New England - ECPv6.15.20//NONSGML v1.0//EN
CALSCALE:GREGORIAN
METHOD:PUBLISH
X-WR-CALNAME:Quilting in New England
X-ORIGINAL-URL:https://quiltnewengland.com
X-WR-CALDESC:Events for Quilting in New England
REFRESH-INTERVAL;VALUE=DURATION:PT1H
X-Robots-Tag:noindex
X-PUBLISHED-TTL:PT1H
BEGIN:VTIMEZONE
TZID:America/New_York
BEGIN:DAYLIGHT
TZOFFSETFROM:-0500
TZOFFSETTO:-0400
TZNAME:EDT
DTSTART:20240310T070000
END:DAYLIGHT
BEGIN:STANDARD
TZOFFSETFROM:-0400
TZOFFSETTO:-0500
TZNAME:EST
DTSTART:20241103T060000
END:STANDARD
BEGIN:DAYLIGHT
TZOFFSETFROM:-0500
TZOFFSETTO:-0400
TZNAME:EDT
DTSTART:20250309T070000
END:DAYLIGHT
BEGIN:STANDARD
TZOFFSETFROM:-0400
TZOFFSETTO:-0500
TZNAME:EST
DTSTART:20251102T060000
END:STANDARD
BEGIN:DAYLIGHT
TZOFFSETFROM:-0500
TZOFFSETTO:-0400
TZNAME:EDT
DTSTART:20260308T070000
END:DAYLIGHT
BEGIN:STANDARD
TZOFFSETFROM:-0400
TZOFFSETTO:-0500
TZNAME:EST
DTSTART:20261101T060000
END:STANDARD
END:VTIMEZONE
BEGIN:VEVENT
DTSTART;VALUE=DATE:20250724
DTEND;VALUE=DATE:20250727
DTSTAMP:20260424T192957
CREATED:20250312T170011Z
LAST-MODIFIED:20250323T175939Z
UID:3427-1753315200-1753574399@quiltnewengland.com
SUMMARY:Maine Quilts Show 2025
DESCRIPTION:Maine Quilts Show 2025 is being held from July 24th to 26th\, at the Augusta Civic Center\, Augusta\, Maine\, sponsored by Pine Tree Quilters Guild. \nEvent times: Thursday – Friday\, 9 am–5 pm\, Saturday 9 am – 4 pm.\, Opening Night Preview Wednesday\, July 23\, 7 am –9 pm.\nThe Maine Quilts Show will feature workshops\, vendors\, demonstrations\, lectures\, and children’s classes. \n\n\n\n500+ quilts: antique\, contemporary\, display\, judged\nSpecial Exhibits “Antique Log Cabin Quilts” from the International Quilt Museum\nMini-Amish Quilts from the New England Quilt Museum\nA special exhibit by Diane Harris “The Stash Bandit”\nAdmission: $15 daily; multi-day: $30; children 12 & under are free with paid adult.\nThe venue is air-conditioned\, convenient\, and has free parking.\nYou can find us at www.mainequilts.org and on facebook.com/MaineQuilts.\n\n\n\n 
URL:https://quiltnewengland.com/events/maine-quilts-show-2025
LOCATION:Augusta Civic Center\, 76 Community Drive\, Augusta\, ME\, 04330\, United States
CATEGORIES:Guild Event,Maine,Quilt Show
ORGANIZER;CN="Pine Tree Quilters Guild Inc":MAILTO:info@mainequilts.org
END:VEVENT
END:VCALENDAR